BEGIN:VCALENDAR
VERSION:2.0
PRODID:-//Billard Ecublens - ECPv6.15.20//NONSGML v1.0//EN
CALSCALE:GREGORIAN
METHOD:PUBLISH
X-WR-CALNAME:Billard Ecublens
X-ORIGINAL-URL:https://billard-ecublens.ch
X-WR-CALDESC:Évènements pour Billard Ecublens
REFRESH-INTERVAL;VALUE=DURATION:PT1H
X-Robots-Tag:noindex
X-PUBLISHED-TTL:PT1H
BEGIN:VTIMEZONE
TZID:Europe/Zurich
BEGIN:DAYLIGHT
TZOFFSETFROM:+0100
TZOFFSETTO:+0200
TZNAME:CEST
DTSTART:20280326T010000
END:DAYLIGHT
BEGIN:STANDARD
TZOFFSETFROM:+0200
TZOFFSETTO:+0100
TZNAME:CET
DTSTART:20281029T010000
END:STANDARD
BEGIN:DAYLIGHT
TZOFFSETFROM:+0100
TZOFFSETTO:+0200
TZNAME:CEST
DTSTART:20290325T010000
END:DAYLIGHT
BEGIN:STANDARD
TZOFFSETFROM:+0200
TZOFFSETTO:+0100
TZNAME:CET
DTSTART:20291028T010000
END:STANDARD
BEGIN:DAYLIGHT
TZOFFSETFROM:+0100
TZOFFSETTO:+0200
TZNAME:CEST
DTSTART:20300331T010000
END:DAYLIGHT
BEGIN:STANDARD
TZOFFSETFROM:+0200
TZOFFSETTO:+0100
TZNAME:CET
DTSTART:20301027T010000
END:STANDARD
END:VTIMEZONE
BEGIN:VEVENT
DTSTART;TZID=Europe/Zurich:20290607T133000
DTEND;TZID=Europe/Zurich:20290607T153000
DTSTAMP:20260423T092411
CREATED:20260412T064705Z
LAST-MODIFIED:20260412T064705Z
UID:10000634-1875533400-1875540600@billard-ecublens.ch
SUMMARY:après-midi 55+
DESCRIPTION:
URL:https://billard-ecublens.ch/event/apres-midi-55/2029-06-07/
LOCATION:Au local\, Collège du Pontet\, Ecublens\, Ouest lausannois\, 1024\, Switzerland
GEO:46.5323405;6.568879
X-APPLE-STRUCTURED-LOCATION;VALUE=URI;X-ADDRESS=Au local Collège du Pontet Ecublens Ouest lausannois 1024 Switzerland;X-APPLE-RADIUS=500;X-TITLE=Collège du Pontet:geo:6.568879,46.5323405
END:VEVENT
BEGIN:VEVENT
DTSTART;TZID=Europe/Zurich:20290614T133000
DTEND;TZID=Europe/Zurich:20290614T153000
DTSTAMP:20260423T092411
CREATED:20260412T064705Z
LAST-MODIFIED:20260412T064705Z
UID:10000635-1876138200-1876145400@billard-ecublens.ch
SUMMARY:après-midi 55+
DESCRIPTION:
URL:https://billard-ecublens.ch/event/apres-midi-55/2029-06-14/
LOCATION:Au local\, Collège du Pontet\, Ecublens\, Ouest lausannois\, 1024\, Switzerland
GEO:46.5323405;6.568879
X-APPLE-STRUCTURED-LOCATION;VALUE=URI;X-ADDRESS=Au local Collège du Pontet Ecublens Ouest lausannois 1024 Switzerland;X-APPLE-RADIUS=500;X-TITLE=Collège du Pontet:geo:6.568879,46.5323405
END:VEVENT
BEGIN:VEVENT
DTSTART;TZID=Europe/Zurich:20290621T133000
DTEND;TZID=Europe/Zurich:20290621T153000
DTSTAMP:20260423T092411
CREATED:20260412T064705Z
LAST-MODIFIED:20260412T064705Z
UID:10000636-1876743000-1876750200@billard-ecublens.ch
SUMMARY:après-midi 55+
DESCRIPTION:
URL:https://billard-ecublens.ch/event/apres-midi-55/2029-06-21/
LOCATION:Au local\, Collège du Pontet\, Ecublens\, Ouest lausannois\, 1024\, Switzerland
GEO:46.5323405;6.568879
X-APPLE-STRUCTURED-LOCATION;VALUE=URI;X-ADDRESS=Au local Collège du Pontet Ecublens Ouest lausannois 1024 Switzerland;X-APPLE-RADIUS=500;X-TITLE=Collège du Pontet:geo:6.568879,46.5323405
END:VEVENT
BEGIN:VEVENT
DTSTART;TZID=Europe/Zurich:20290628T133000
DTEND;TZID=Europe/Zurich:20290628T153000
DTSTAMP:20260423T092411
CREATED:20260412T064705Z
LAST-MODIFIED:20260412T064705Z
UID:10000637-1877347800-1877355000@billard-ecublens.ch
SUMMARY:après-midi 55+
DESCRIPTION:
URL:https://billard-ecublens.ch/event/apres-midi-55/2029-06-28/
LOCATION:Au local\, Collège du Pontet\, Ecublens\, Ouest lausannois\, 1024\, Switzerland
GEO:46.5323405;6.568879
X-APPLE-STRUCTURED-LOCATION;VALUE=URI;X-ADDRESS=Au local Collège du Pontet Ecublens Ouest lausannois 1024 Switzerland;X-APPLE-RADIUS=500;X-TITLE=Collège du Pontet:geo:6.568879,46.5323405
END:VEVENT
BEGIN:VEVENT
DTSTART;TZID=Europe/Zurich:20290705T133000
DTEND;TZID=Europe/Zurich:20290705T153000
DTSTAMP:20260423T092411
CREATED:20260412T064705Z
LAST-MODIFIED:20260412T064705Z
UID:10000638-1877952600-1877959800@billard-ecublens.ch
SUMMARY:après-midi 55+
DESCRIPTION:
URL:https://billard-ecublens.ch/event/apres-midi-55/2029-07-05/
LOCATION:Au local\, Collège du Pontet\, Ecublens\, Ouest lausannois\, 1024\, Switzerland
GEO:46.5323405;6.568879
X-APPLE-STRUCTURED-LOCATION;VALUE=URI;X-ADDRESS=Au local Collège du Pontet Ecublens Ouest lausannois 1024 Switzerland;X-APPLE-RADIUS=500;X-TITLE=Collège du Pontet:geo:6.568879,46.5323405
END:VEVENT
BEGIN:VEVENT
DTSTART;TZID=Europe/Zurich:20290712T133000
DTEND;TZID=Europe/Zurich:20290712T153000
DTSTAMP:20260423T092411
CREATED:20260412T064705Z
LAST-MODIFIED:20260412T064705Z
UID:10000639-1878557400-1878564600@billard-ecublens.ch
SUMMARY:après-midi 55+
DESCRIPTION:
URL:https://billard-ecublens.ch/event/apres-midi-55/2029-07-12/
LOCATION:Au local\, Collège du Pontet\, Ecublens\, Ouest lausannois\, 1024\, Switzerland
GEO:46.5323405;6.568879
X-APPLE-STRUCTURED-LOCATION;VALUE=URI;X-ADDRESS=Au local Collège du Pontet Ecublens Ouest lausannois 1024 Switzerland;X-APPLE-RADIUS=500;X-TITLE=Collège du Pontet:geo:6.568879,46.5323405
END:VEVENT
BEGIN:VEVENT
DTSTART;TZID=Europe/Zurich:20290719T133000
DTEND;TZID=Europe/Zurich:20290719T153000
DTSTAMP:20260423T092411
CREATED:20260412T064705Z
LAST-MODIFIED:20260412T064705Z
UID:10000640-1879162200-1879169400@billard-ecublens.ch
SUMMARY:après-midi 55+
DESCRIPTION:
URL:https://billard-ecublens.ch/event/apres-midi-55/2029-07-19/
LOCATION:Au local\, Collège du Pontet\, Ecublens\, Ouest lausannois\, 1024\, Switzerland
GEO:46.5323405;6.568879
X-APPLE-STRUCTURED-LOCATION;VALUE=URI;X-ADDRESS=Au local Collège du Pontet Ecublens Ouest lausannois 1024 Switzerland;X-APPLE-RADIUS=500;X-TITLE=Collège du Pontet:geo:6.568879,46.5323405
END:VEVENT
BEGIN:VEVENT
DTSTART;TZID=Europe/Zurich:20290726T133000
DTEND;TZID=Europe/Zurich:20290726T153000
DTSTAMP:20260423T092411
CREATED:20260412T064705Z
LAST-MODIFIED:20260412T064705Z
UID:10000641-1879767000-1879774200@billard-ecublens.ch
SUMMARY:après-midi 55+
DESCRIPTION:
URL:https://billard-ecublens.ch/event/apres-midi-55/2029-07-26/
LOCATION:Au local\, Collège du Pontet\, Ecublens\, Ouest lausannois\, 1024\, Switzerland
GEO:46.5323405;6.568879
X-APPLE-STRUCTURED-LOCATION;VALUE=URI;X-ADDRESS=Au local Collège du Pontet Ecublens Ouest lausannois 1024 Switzerland;X-APPLE-RADIUS=500;X-TITLE=Collège du Pontet:geo:6.568879,46.5323405
END:VEVENT
BEGIN:VEVENT
DTSTART;TZID=Europe/Zurich:20290802T133000
DTEND;TZID=Europe/Zurich:20290802T153000
DTSTAMP:20260423T092411
CREATED:20260412T064705Z
LAST-MODIFIED:20260412T064705Z
UID:10000642-1880371800-1880379000@billard-ecublens.ch
SUMMARY:après-midi 55+
DESCRIPTION:
URL:https://billard-ecublens.ch/event/apres-midi-55/2029-08-02/
LOCATION:Au local\, Collège du Pontet\, Ecublens\, Ouest lausannois\, 1024\, Switzerland
GEO:46.5323405;6.568879
X-APPLE-STRUCTURED-LOCATION;VALUE=URI;X-ADDRESS=Au local Collège du Pontet Ecublens Ouest lausannois 1024 Switzerland;X-APPLE-RADIUS=500;X-TITLE=Collège du Pontet:geo:6.568879,46.5323405
END:VEVENT
BEGIN:VEVENT
DTSTART;TZID=Europe/Zurich:20290809T133000
DTEND;TZID=Europe/Zurich:20290809T153000
DTSTAMP:20260423T092411
CREATED:20260412T064705Z
LAST-MODIFIED:20260412T064705Z
UID:10000643-1880976600-1880983800@billard-ecublens.ch
SUMMARY:après-midi 55+
DESCRIPTION:
URL:https://billard-ecublens.ch/event/apres-midi-55/2029-08-09/
LOCATION:Au local\, Collège du Pontet\, Ecublens\, Ouest lausannois\, 1024\, Switzerland
GEO:46.5323405;6.568879
X-APPLE-STRUCTURED-LOCATION;VALUE=URI;X-ADDRESS=Au local Collège du Pontet Ecublens Ouest lausannois 1024 Switzerland;X-APPLE-RADIUS=500;X-TITLE=Collège du Pontet:geo:6.568879,46.5323405
END:VEVENT
BEGIN:VEVENT
DTSTART;TZID=Europe/Zurich:20290816T133000
DTEND;TZID=Europe/Zurich:20290816T153000
DTSTAMP:20260423T092411
CREATED:20260412T064705Z
LAST-MODIFIED:20260412T064705Z
UID:10000644-1881581400-1881588600@billard-ecublens.ch
SUMMARY:après-midi 55+
DESCRIPTION:
URL:https://billard-ecublens.ch/event/apres-midi-55/2029-08-16/
LOCATION:Au local\, Collège du Pontet\, Ecublens\, Ouest lausannois\, 1024\, Switzerland
GEO:46.5323405;6.568879
X-APPLE-STRUCTURED-LOCATION;VALUE=URI;X-ADDRESS=Au local Collège du Pontet Ecublens Ouest lausannois 1024 Switzerland;X-APPLE-RADIUS=500;X-TITLE=Collège du Pontet:geo:6.568879,46.5323405
END:VEVENT
BEGIN:VEVENT
DTSTART;TZID=Europe/Zurich:20290823T133000
DTEND;TZID=Europe/Zurich:20290823T153000
DTSTAMP:20260423T092411
CREATED:20260412T064705Z
LAST-MODIFIED:20260412T064705Z
UID:10000645-1882186200-1882193400@billard-ecublens.ch
SUMMARY:après-midi 55+
DESCRIPTION:
URL:https://billard-ecublens.ch/event/apres-midi-55/2029-08-23/
LOCATION:Au local\, Collège du Pontet\, Ecublens\, Ouest lausannois\, 1024\, Switzerland
GEO:46.5323405;6.568879
X-APPLE-STRUCTURED-LOCATION;VALUE=URI;X-ADDRESS=Au local Collège du Pontet Ecublens Ouest lausannois 1024 Switzerland;X-APPLE-RADIUS=500;X-TITLE=Collège du Pontet:geo:6.568879,46.5323405
END:VEVENT
BEGIN:VEVENT
DTSTART;TZID=Europe/Zurich:20290830T133000
DTEND;TZID=Europe/Zurich:20290830T153000
DTSTAMP:20260423T092411
CREATED:20260412T064705Z
LAST-MODIFIED:20260412T064705Z
UID:10000646-1882791000-1882798200@billard-ecublens.ch
SUMMARY:après-midi 55+
DESCRIPTION:
URL:https://billard-ecublens.ch/event/apres-midi-55/2029-08-30/
LOCATION:Au local\, Collège du Pontet\, Ecublens\, Ouest lausannois\, 1024\, Switzerland
GEO:46.5323405;6.568879
X-APPLE-STRUCTURED-LOCATION;VALUE=URI;X-ADDRESS=Au local Collège du Pontet Ecublens Ouest lausannois 1024 Switzerland;X-APPLE-RADIUS=500;X-TITLE=Collège du Pontet:geo:6.568879,46.5323405
END:VEVENT
BEGIN:VEVENT
DTSTART;TZID=Europe/Zurich:20290906T133000
DTEND;TZID=Europe/Zurich:20290906T153000
DTSTAMP:20260423T092411
CREATED:20260412T064705Z
LAST-MODIFIED:20260412T064705Z
UID:10000647-1883395800-1883403000@billard-ecublens.ch
SUMMARY:après-midi 55+
DESCRIPTION:
URL:https://billard-ecublens.ch/event/apres-midi-55/2029-09-06/
LOCATION:Au local\, Collège du Pontet\, Ecublens\, Ouest lausannois\, 1024\, Switzerland
GEO:46.5323405;6.568879
X-APPLE-STRUCTURED-LOCATION;VALUE=URI;X-ADDRESS=Au local Collège du Pontet Ecublens Ouest lausannois 1024 Switzerland;X-APPLE-RADIUS=500;X-TITLE=Collège du Pontet:geo:6.568879,46.5323405
END:VEVENT
BEGIN:VEVENT
DTSTART;TZID=Europe/Zurich:20290913T133000
DTEND;TZID=Europe/Zurich:20290913T153000
DTSTAMP:20260423T092411
CREATED:20260412T064705Z
LAST-MODIFIED:20260412T064705Z
UID:10000648-1884000600-1884007800@billard-ecublens.ch
SUMMARY:après-midi 55+
DESCRIPTION:
URL:https://billard-ecublens.ch/event/apres-midi-55/2029-09-13/
LOCATION:Au local\, Collège du Pontet\, Ecublens\, Ouest lausannois\, 1024\, Switzerland
GEO:46.5323405;6.568879
X-APPLE-STRUCTURED-LOCATION;VALUE=URI;X-ADDRESS=Au local Collège du Pontet Ecublens Ouest lausannois 1024 Switzerland;X-APPLE-RADIUS=500;X-TITLE=Collège du Pontet:geo:6.568879,46.5323405
END:VEVENT
BEGIN:VEVENT
DTSTART;TZID=Europe/Zurich:20290920T133000
DTEND;TZID=Europe/Zurich:20290920T153000
DTSTAMP:20260423T092411
CREATED:20260412T064705Z
LAST-MODIFIED:20260412T064705Z
UID:10000649-1884605400-1884612600@billard-ecublens.ch
SUMMARY:après-midi 55+
DESCRIPTION:
URL:https://billard-ecublens.ch/event/apres-midi-55/2029-09-20/
LOCATION:Au local\, Collège du Pontet\, Ecublens\, Ouest lausannois\, 1024\, Switzerland
GEO:46.5323405;6.568879
X-APPLE-STRUCTURED-LOCATION;VALUE=URI;X-ADDRESS=Au local Collège du Pontet Ecublens Ouest lausannois 1024 Switzerland;X-APPLE-RADIUS=500;X-TITLE=Collège du Pontet:geo:6.568879,46.5323405
END:VEVENT
BEGIN:VEVENT
DTSTART;TZID=Europe/Zurich:20290927T133000
DTEND;TZID=Europe/Zurich:20290927T153000
DTSTAMP:20260423T092411
CREATED:20260412T064705Z
LAST-MODIFIED:20260412T064705Z
UID:10000650-1885210200-1885217400@billard-ecublens.ch
SUMMARY:après-midi 55+
DESCRIPTION:
URL:https://billard-ecublens.ch/event/apres-midi-55/2029-09-27/
LOCATION:Au local\, Collège du Pontet\, Ecublens\, Ouest lausannois\, 1024\, Switzerland
GEO:46.5323405;6.568879
X-APPLE-STRUCTURED-LOCATION;VALUE=URI;X-ADDRESS=Au local Collège du Pontet Ecublens Ouest lausannois 1024 Switzerland;X-APPLE-RADIUS=500;X-TITLE=Collège du Pontet:geo:6.568879,46.5323405
END:VEVENT
BEGIN:VEVENT
DTSTART;TZID=Europe/Zurich:20291004T133000
DTEND;TZID=Europe/Zurich:20291004T153000
DTSTAMP:20260423T092411
CREATED:20260412T064705Z
LAST-MODIFIED:20260412T064705Z
UID:10000651-1885815000-1885822200@billard-ecublens.ch
SUMMARY:après-midi 55+
DESCRIPTION:
URL:https://billard-ecublens.ch/event/apres-midi-55/2029-10-04/
LOCATION:Au local\, Collège du Pontet\, Ecublens\, Ouest lausannois\, 1024\, Switzerland
GEO:46.5323405;6.568879
X-APPLE-STRUCTURED-LOCATION;VALUE=URI;X-ADDRESS=Au local Collège du Pontet Ecublens Ouest lausannois 1024 Switzerland;X-APPLE-RADIUS=500;X-TITLE=Collège du Pontet:geo:6.568879,46.5323405
END:VEVENT
BEGIN:VEVENT
DTSTART;TZID=Europe/Zurich:20291011T133000
DTEND;TZID=Europe/Zurich:20291011T153000
DTSTAMP:20260423T092411
CREATED:20260412T064705Z
LAST-MODIFIED:20260412T064705Z
UID:10000652-1886419800-1886427000@billard-ecublens.ch
SUMMARY:après-midi 55+
DESCRIPTION:
URL:https://billard-ecublens.ch/event/apres-midi-55/2029-10-11/
LOCATION:Au local\, Collège du Pontet\, Ecublens\, Ouest lausannois\, 1024\, Switzerland
GEO:46.5323405;6.568879
X-APPLE-STRUCTURED-LOCATION;VALUE=URI;X-ADDRESS=Au local Collège du Pontet Ecublens Ouest lausannois 1024 Switzerland;X-APPLE-RADIUS=500;X-TITLE=Collège du Pontet:geo:6.568879,46.5323405
END:VEVENT
BEGIN:VEVENT
DTSTART;TZID=Europe/Zurich:20291018T133000
DTEND;TZID=Europe/Zurich:20291018T153000
DTSTAMP:20260423T092411
CREATED:20260412T064705Z
LAST-MODIFIED:20260412T064705Z
UID:10000653-1887024600-1887031800@billard-ecublens.ch
SUMMARY:après-midi 55+
DESCRIPTION:
URL:https://billard-ecublens.ch/event/apres-midi-55/2029-10-18/
LOCATION:Au local\, Collège du Pontet\, Ecublens\, Ouest lausannois\, 1024\, Switzerland
GEO:46.5323405;6.568879
X-APPLE-STRUCTURED-LOCATION;VALUE=URI;X-ADDRESS=Au local Collège du Pontet Ecublens Ouest lausannois 1024 Switzerland;X-APPLE-RADIUS=500;X-TITLE=Collège du Pontet:geo:6.568879,46.5323405
END:VEVENT
BEGIN:VEVENT
DTSTART;TZID=Europe/Zurich:20291025T133000
DTEND;TZID=Europe/Zurich:20291025T153000
DTSTAMP:20260423T092411
CREATED:20260412T064705Z
LAST-MODIFIED:20260412T064705Z
UID:10000654-1887629400-1887636600@billard-ecublens.ch
SUMMARY:après-midi 55+
DESCRIPTION:
URL:https://billard-ecublens.ch/event/apres-midi-55/2029-10-25/
LOCATION:Au local\, Collège du Pontet\, Ecublens\, Ouest lausannois\, 1024\, Switzerland
GEO:46.5323405;6.568879
X-APPLE-STRUCTURED-LOCATION;VALUE=URI;X-ADDRESS=Au local Collège du Pontet Ecublens Ouest lausannois 1024 Switzerland;X-APPLE-RADIUS=500;X-TITLE=Collège du Pontet:geo:6.568879,46.5323405
END:VEVENT
BEGIN:VEVENT
DTSTART;TZID=Europe/Zurich:20291101T133000
DTEND;TZID=Europe/Zurich:20291101T153000
DTSTAMP:20260423T092411
CREATED:20260412T064705Z
LAST-MODIFIED:20260412T064705Z
UID:10000655-1888234200-1888241400@billard-ecublens.ch
SUMMARY:après-midi 55+
DESCRIPTION:
URL:https://billard-ecublens.ch/event/apres-midi-55/2029-11-01/
LOCATION:Au local\, Collège du Pontet\, Ecublens\, Ouest lausannois\, 1024\, Switzerland
GEO:46.5323405;6.568879
X-APPLE-STRUCTURED-LOCATION;VALUE=URI;X-ADDRESS=Au local Collège du Pontet Ecublens Ouest lausannois 1024 Switzerland;X-APPLE-RADIUS=500;X-TITLE=Collège du Pontet:geo:6.568879,46.5323405
END:VEVENT
BEGIN:VEVENT
DTSTART;TZID=Europe/Zurich:20291108T133000
DTEND;TZID=Europe/Zurich:20291108T153000
DTSTAMP:20260423T092411
CREATED:20260412T064705Z
LAST-MODIFIED:20260412T064705Z
UID:10000656-1888839000-1888846200@billard-ecublens.ch
SUMMARY:après-midi 55+
DESCRIPTION:
URL:https://billard-ecublens.ch/event/apres-midi-55/2029-11-08/
LOCATION:Au local\, Collège du Pontet\, Ecublens\, Ouest lausannois\, 1024\, Switzerland
GEO:46.5323405;6.568879
X-APPLE-STRUCTURED-LOCATION;VALUE=URI;X-ADDRESS=Au local Collège du Pontet Ecublens Ouest lausannois 1024 Switzerland;X-APPLE-RADIUS=500;X-TITLE=Collège du Pontet:geo:6.568879,46.5323405
END:VEVENT
BEGIN:VEVENT
DTSTART;TZID=Europe/Zurich:20291115T133000
DTEND;TZID=Europe/Zurich:20291115T153000
DTSTAMP:20260423T092411
CREATED:20260412T064705Z
LAST-MODIFIED:20260412T064705Z
UID:10000657-1889443800-1889451000@billard-ecublens.ch
SUMMARY:après-midi 55+
DESCRIPTION:
URL:https://billard-ecublens.ch/event/apres-midi-55/2029-11-15/
LOCATION:Au local\, Collège du Pontet\, Ecublens\, Ouest lausannois\, 1024\, Switzerland
GEO:46.5323405;6.568879
X-APPLE-STRUCTURED-LOCATION;VALUE=URI;X-ADDRESS=Au local Collège du Pontet Ecublens Ouest lausannois 1024 Switzerland;X-APPLE-RADIUS=500;X-TITLE=Collège du Pontet:geo:6.568879,46.5323405
END:VEVENT
BEGIN:VEVENT
DTSTART;TZID=Europe/Zurich:20291122T133000
DTEND;TZID=Europe/Zurich:20291122T153000
DTSTAMP:20260423T092411
CREATED:20260412T064705Z
LAST-MODIFIED:20260412T064705Z
UID:10000658-1890048600-1890055800@billard-ecublens.ch
SUMMARY:après-midi 55+
DESCRIPTION:
URL:https://billard-ecublens.ch/event/apres-midi-55/2029-11-22/
LOCATION:Au local\, Collège du Pontet\, Ecublens\, Ouest lausannois\, 1024\, Switzerland
GEO:46.5323405;6.568879
X-APPLE-STRUCTURED-LOCATION;VALUE=URI;X-ADDRESS=Au local Collège du Pontet Ecublens Ouest lausannois 1024 Switzerland;X-APPLE-RADIUS=500;X-TITLE=Collège du Pontet:geo:6.568879,46.5323405
END:VEVENT
BEGIN:VEVENT
DTSTART;TZID=Europe/Zurich:20291129T133000
DTEND;TZID=Europe/Zurich:20291129T153000
DTSTAMP:20260423T092411
CREATED:20260412T064705Z
LAST-MODIFIED:20260412T064705Z
UID:10000659-1890653400-1890660600@billard-ecublens.ch
SUMMARY:après-midi 55+
DESCRIPTION:
URL:https://billard-ecublens.ch/event/apres-midi-55/2029-11-29/
LOCATION:Au local\, Collège du Pontet\, Ecublens\, Ouest lausannois\, 1024\, Switzerland
GEO:46.5323405;6.568879
X-APPLE-STRUCTURED-LOCATION;VALUE=URI;X-ADDRESS=Au local Collège du Pontet Ecublens Ouest lausannois 1024 Switzerland;X-APPLE-RADIUS=500;X-TITLE=Collège du Pontet:geo:6.568879,46.5323405
END:VEVENT
BEGIN:VEVENT
DTSTART;TZID=Europe/Zurich:20291206T133000
DTEND;TZID=Europe/Zurich:20291206T153000
DTSTAMP:20260423T092411
CREATED:20260412T064705Z
LAST-MODIFIED:20260412T064705Z
UID:10000660-1891258200-1891265400@billard-ecublens.ch
SUMMARY:après-midi 55+
DESCRIPTION:
URL:https://billard-ecublens.ch/event/apres-midi-55/2029-12-06/
LOCATION:Au local\, Collège du Pontet\, Ecublens\, Ouest lausannois\, 1024\, Switzerland
GEO:46.5323405;6.568879
X-APPLE-STRUCTURED-LOCATION;VALUE=URI;X-ADDRESS=Au local Collège du Pontet Ecublens Ouest lausannois 1024 Switzerland;X-APPLE-RADIUS=500;X-TITLE=Collège du Pontet:geo:6.568879,46.5323405
END:VEVENT
BEGIN:VEVENT
DTSTART;TZID=Europe/Zurich:20291213T133000
DTEND;TZID=Europe/Zurich:20291213T153000
DTSTAMP:20260423T092411
CREATED:20260412T064705Z
LAST-MODIFIED:20260412T064705Z
UID:10000661-1891863000-1891870200@billard-ecublens.ch
SUMMARY:après-midi 55+
DESCRIPTION:
URL:https://billard-ecublens.ch/event/apres-midi-55/2029-12-13/
LOCATION:Au local\, Collège du Pontet\, Ecublens\, Ouest lausannois\, 1024\, Switzerland
GEO:46.5323405;6.568879
X-APPLE-STRUCTURED-LOCATION;VALUE=URI;X-ADDRESS=Au local Collège du Pontet Ecublens Ouest lausannois 1024 Switzerland;X-APPLE-RADIUS=500;X-TITLE=Collège du Pontet:geo:6.568879,46.5323405
END:VEVENT
BEGIN:VEVENT
DTSTART;TZID=Europe/Zurich:20291220T133000
DTEND;TZID=Europe/Zurich:20291220T153000
DTSTAMP:20260423T092411
CREATED:20260412T064705Z
LAST-MODIFIED:20260412T064705Z
UID:10000662-1892467800-1892475000@billard-ecublens.ch
SUMMARY:après-midi 55+
DESCRIPTION:
URL:https://billard-ecublens.ch/event/apres-midi-55/2029-12-20/
LOCATION:Au local\, Collège du Pontet\, Ecublens\, Ouest lausannois\, 1024\, Switzerland
GEO:46.5323405;6.568879
X-APPLE-STRUCTURED-LOCATION;VALUE=URI;X-ADDRESS=Au local Collège du Pontet Ecublens Ouest lausannois 1024 Switzerland;X-APPLE-RADIUS=500;X-TITLE=Collège du Pontet:geo:6.568879,46.5323405
END:VEVENT
BEGIN:VEVENT
DTSTART;TZID=Europe/Zurich:20291227T133000
DTEND;TZID=Europe/Zurich:20291227T153000
DTSTAMP:20260423T092411
CREATED:20260412T064705Z
LAST-MODIFIED:20260412T064705Z
UID:10000663-1893072600-1893079800@billard-ecublens.ch
SUMMARY:après-midi 55+
DESCRIPTION:
URL:https://billard-ecublens.ch/event/apres-midi-55/2029-12-27/
LOCATION:Au local\, Collège du Pontet\, Ecublens\, Ouest lausannois\, 1024\, Switzerland
GEO:46.5323405;6.568879
X-APPLE-STRUCTURED-LOCATION;VALUE=URI;X-ADDRESS=Au local Collège du Pontet Ecublens Ouest lausannois 1024 Switzerland;X-APPLE-RADIUS=500;X-TITLE=Collège du Pontet:geo:6.568879,46.5323405
END:VEVENT
END:VCALENDAR