BEGIN:VCALENDAR
VERSION:2.0
PRODID:-//Billard Ecublens - ECPv6.15.20//NONSGML v1.0//EN
CALSCALE:GREGORIAN
METHOD:PUBLISH
X-ORIGINAL-URL:https://billard-ecublens.ch
X-WR-CALDESC:Évènements pour Billard Ecublens
REFRESH-INTERVAL;VALUE=DURATION:PT1H
X-Robots-Tag:noindex
X-PUBLISHED-TTL:PT1H
BEGIN:VTIMEZONE
TZID:Europe/Zurich
BEGIN:DAYLIGHT
TZOFFSETFROM:+0100
TZOFFSETTO:+0200
TZNAME:CEST
DTSTART:20250330T010000
END:DAYLIGHT
BEGIN:STANDARD
TZOFFSETFROM:+0200
TZOFFSETTO:+0100
TZNAME:CET
DTSTART:20251026T010000
END:STANDARD
BEGIN:DAYLIGHT
TZOFFSETFROM:+0100
TZOFFSETTO:+0200
TZNAME:CEST
DTSTART:20260329T010000
END:DAYLIGHT
BEGIN:STANDARD
TZOFFSETFROM:+0200
TZOFFSETTO:+0100
TZNAME:CET
DTSTART:20261025T010000
END:STANDARD
BEGIN:DAYLIGHT
TZOFFSETFROM:+0100
TZOFFSETTO:+0200
TZNAME:CEST
DTSTART:20270328T010000
END:DAYLIGHT
BEGIN:STANDARD
TZOFFSETFROM:+0200
TZOFFSETTO:+0100
TZNAME:CET
DTSTART:20271031T010000
END:STANDARD
END:VTIMEZONE
BEGIN:VEVENT
DTSTART;TZID=Europe/Zurich:20261105T133000
DTEND;TZID=Europe/Zurich:20261105T153000
DTSTAMP:20260419T213943
CREATED:20260412T064705Z
LAST-MODIFIED:20260412T064705Z
UID:10000499-1793885400-1793892600@billard-ecublens.ch
SUMMARY:après-midi 55+
DESCRIPTION:
URL:https://billard-ecublens.ch/event/apres-midi-55/2026-11-05/
LOCATION:Au local\, Collège du Pontet\, Ecublens\, Ouest lausannois\, 1024\, Switzerland
GEO:46.5323405;6.568879
X-APPLE-STRUCTURED-LOCATION;VALUE=URI;X-ADDRESS=Au local Collège du Pontet Ecublens Ouest lausannois 1024 Switzerland;X-APPLE-RADIUS=500;X-TITLE=Collège du Pontet:geo:6.568879,46.5323405
END:VEVENT
BEGIN:VEVENT
DTSTART;TZID=Europe/Zurich:20261112T133000
DTEND;TZID=Europe/Zurich:20261112T153000
DTSTAMP:20260419T213943
CREATED:20260412T064705Z
LAST-MODIFIED:20260412T064705Z
UID:10000500-1794490200-1794497400@billard-ecublens.ch
SUMMARY:après-midi 55+
DESCRIPTION:
URL:https://billard-ecublens.ch/event/apres-midi-55/2026-11-12/
LOCATION:Au local\, Collège du Pontet\, Ecublens\, Ouest lausannois\, 1024\, Switzerland
GEO:46.5323405;6.568879
X-APPLE-STRUCTURED-LOCATION;VALUE=URI;X-ADDRESS=Au local Collège du Pontet Ecublens Ouest lausannois 1024 Switzerland;X-APPLE-RADIUS=500;X-TITLE=Collège du Pontet:geo:6.568879,46.5323405
END:VEVENT
BEGIN:VEVENT
DTSTART;TZID=Europe/Zurich:20261119T133000
DTEND;TZID=Europe/Zurich:20261119T153000
DTSTAMP:20260419T213943
CREATED:20260412T064705Z
LAST-MODIFIED:20260412T064705Z
UID:10000501-1795095000-1795102200@billard-ecublens.ch
SUMMARY:après-midi 55+
DESCRIPTION:
URL:https://billard-ecublens.ch/event/apres-midi-55/2026-11-19/
LOCATION:Au local\, Collège du Pontet\, Ecublens\, Ouest lausannois\, 1024\, Switzerland
GEO:46.5323405;6.568879
X-APPLE-STRUCTURED-LOCATION;VALUE=URI;X-ADDRESS=Au local Collège du Pontet Ecublens Ouest lausannois 1024 Switzerland;X-APPLE-RADIUS=500;X-TITLE=Collège du Pontet:geo:6.568879,46.5323405
END:VEVENT
BEGIN:VEVENT
DTSTART;TZID=Europe/Zurich:20261126T133000
DTEND;TZID=Europe/Zurich:20261126T153000
DTSTAMP:20260419T213943
CREATED:20260412T064705Z
LAST-MODIFIED:20260412T064705Z
UID:10000502-1795699800-1795707000@billard-ecublens.ch
SUMMARY:après-midi 55+
DESCRIPTION:
URL:https://billard-ecublens.ch/event/apres-midi-55/2026-11-26/
LOCATION:Au local\, Collège du Pontet\, Ecublens\, Ouest lausannois\, 1024\, Switzerland
GEO:46.5323405;6.568879
X-APPLE-STRUCTURED-LOCATION;VALUE=URI;X-ADDRESS=Au local Collège du Pontet Ecublens Ouest lausannois 1024 Switzerland;X-APPLE-RADIUS=500;X-TITLE=Collège du Pontet:geo:6.568879,46.5323405
END:VEVENT
END:VCALENDAR