BEGIN:VCALENDAR
VERSION:2.0
PRODID:-//Billard Ecublens - ECPv6.15.20//NONSGML v1.0//EN
CALSCALE:GREGORIAN
METHOD:PUBLISH
X-ORIGINAL-URL:https://billard-ecublens.ch
X-WR-CALDESC:Évènements pour Billard Ecublens
REFRESH-INTERVAL;VALUE=DURATION:PT1H
X-Robots-Tag:noindex
X-PUBLISHED-TTL:PT1H
BEGIN:VTIMEZONE
TZID:Europe/Zurich
BEGIN:DAYLIGHT
TZOFFSETFROM:+0100
TZOFFSETTO:+0200
TZNAME:CEST
DTSTART:20270328T010000
END:DAYLIGHT
BEGIN:STANDARD
TZOFFSETFROM:+0200
TZOFFSETTO:+0100
TZNAME:CET
DTSTART:20271031T010000
END:STANDARD
BEGIN:DAYLIGHT
TZOFFSETFROM:+0100
TZOFFSETTO:+0200
TZNAME:CEST
DTSTART:20280326T010000
END:DAYLIGHT
BEGIN:STANDARD
TZOFFSETFROM:+0200
TZOFFSETTO:+0100
TZNAME:CET
DTSTART:20281029T010000
END:STANDARD
BEGIN:DAYLIGHT
TZOFFSETFROM:+0100
TZOFFSETTO:+0200
TZNAME:CEST
DTSTART:20290325T010000
END:DAYLIGHT
BEGIN:STANDARD
TZOFFSETFROM:+0200
TZOFFSETTO:+0100
TZNAME:CET
DTSTART:20291028T010000
END:STANDARD
BEGIN:DAYLIGHT
TZOFFSETFROM:+0100
TZOFFSETTO:+0200
TZNAME:CEST
DTSTART:20300331T010000
END:DAYLIGHT
BEGIN:STANDARD
TZOFFSETFROM:+0200
TZOFFSETTO:+0100
TZNAME:CET
DTSTART:20301027T010000
END:STANDARD
END:VTIMEZONE
BEGIN:VEVENT
DTSTART;TZID=Europe/Zurich:20280629T133000
DTEND;TZID=Europe/Zurich:20280629T153000
DTSTAMP:20260421T034400
CREATED:20260412T064705Z
LAST-MODIFIED:20260412T064705Z
UID:10000585-1845898200-1845905400@billard-ecublens.ch
SUMMARY:après-midi 55+
DESCRIPTION:
URL:https://billard-ecublens.ch/event/apres-midi-55/2028-06-29/
LOCATION:Au local\, Collège du Pontet\, Ecublens\, Ouest lausannois\, 1024\, Switzerland
GEO:46.5323405;6.568879
X-APPLE-STRUCTURED-LOCATION;VALUE=URI;X-ADDRESS=Au local Collège du Pontet Ecublens Ouest lausannois 1024 Switzerland;X-APPLE-RADIUS=500;X-TITLE=Collège du Pontet:geo:6.568879,46.5323405
END:VEVENT
BEGIN:VEVENT
DTSTART;TZID=Europe/Zurich:20280706T133000
DTEND;TZID=Europe/Zurich:20280706T153000
DTSTAMP:20260421T034400
CREATED:20260412T064705Z
LAST-MODIFIED:20260412T064705Z
UID:10000586-1846503000-1846510200@billard-ecublens.ch
SUMMARY:après-midi 55+
DESCRIPTION:
URL:https://billard-ecublens.ch/event/apres-midi-55/2028-07-06/
LOCATION:Au local\, Collège du Pontet\, Ecublens\, Ouest lausannois\, 1024\, Switzerland
GEO:46.5323405;6.568879
X-APPLE-STRUCTURED-LOCATION;VALUE=URI;X-ADDRESS=Au local Collège du Pontet Ecublens Ouest lausannois 1024 Switzerland;X-APPLE-RADIUS=500;X-TITLE=Collège du Pontet:geo:6.568879,46.5323405
END:VEVENT
BEGIN:VEVENT
DTSTART;TZID=Europe/Zurich:20280713T133000
DTEND;TZID=Europe/Zurich:20280713T153000
DTSTAMP:20260421T034400
CREATED:20260412T064705Z
LAST-MODIFIED:20260412T064705Z
UID:10000587-1847107800-1847115000@billard-ecublens.ch
SUMMARY:après-midi 55+
DESCRIPTION:
URL:https://billard-ecublens.ch/event/apres-midi-55/2028-07-13/
LOCATION:Au local\, Collège du Pontet\, Ecublens\, Ouest lausannois\, 1024\, Switzerland
GEO:46.5323405;6.568879
X-APPLE-STRUCTURED-LOCATION;VALUE=URI;X-ADDRESS=Au local Collège du Pontet Ecublens Ouest lausannois 1024 Switzerland;X-APPLE-RADIUS=500;X-TITLE=Collège du Pontet:geo:6.568879,46.5323405
END:VEVENT
BEGIN:VEVENT
DTSTART;TZID=Europe/Zurich:20280720T133000
DTEND;TZID=Europe/Zurich:20280720T153000
DTSTAMP:20260421T034400
CREATED:20260412T064705Z
LAST-MODIFIED:20260412T064705Z
UID:10000588-1847712600-1847719800@billard-ecublens.ch
SUMMARY:après-midi 55+
DESCRIPTION:
URL:https://billard-ecublens.ch/event/apres-midi-55/2028-07-20/
LOCATION:Au local\, Collège du Pontet\, Ecublens\, Ouest lausannois\, 1024\, Switzerland
GEO:46.5323405;6.568879
X-APPLE-STRUCTURED-LOCATION;VALUE=URI;X-ADDRESS=Au local Collège du Pontet Ecublens Ouest lausannois 1024 Switzerland;X-APPLE-RADIUS=500;X-TITLE=Collège du Pontet:geo:6.568879,46.5323405
END:VEVENT
BEGIN:VEVENT
DTSTART;TZID=Europe/Zurich:20280727T133000
DTEND;TZID=Europe/Zurich:20280727T153000
DTSTAMP:20260421T034400
CREATED:20260412T064705Z
LAST-MODIFIED:20260412T064705Z
UID:10000589-1848317400-1848324600@billard-ecublens.ch
SUMMARY:après-midi 55+
DESCRIPTION:
URL:https://billard-ecublens.ch/event/apres-midi-55/2028-07-27/
LOCATION:Au local\, Collège du Pontet\, Ecublens\, Ouest lausannois\, 1024\, Switzerland
GEO:46.5323405;6.568879
X-APPLE-STRUCTURED-LOCATION;VALUE=URI;X-ADDRESS=Au local Collège du Pontet Ecublens Ouest lausannois 1024 Switzerland;X-APPLE-RADIUS=500;X-TITLE=Collège du Pontet:geo:6.568879,46.5323405
END:VEVENT
BEGIN:VEVENT
DTSTART;TZID=Europe/Zurich:20280803T133000
DTEND;TZID=Europe/Zurich:20280803T153000
DTSTAMP:20260421T034400
CREATED:20260412T064705Z
LAST-MODIFIED:20260412T064705Z
UID:10000590-1848922200-1848929400@billard-ecublens.ch
SUMMARY:après-midi 55+
DESCRIPTION:
URL:https://billard-ecublens.ch/event/apres-midi-55/2028-08-03/
LOCATION:Au local\, Collège du Pontet\, Ecublens\, Ouest lausannois\, 1024\, Switzerland
GEO:46.5323405;6.568879
X-APPLE-STRUCTURED-LOCATION;VALUE=URI;X-ADDRESS=Au local Collège du Pontet Ecublens Ouest lausannois 1024 Switzerland;X-APPLE-RADIUS=500;X-TITLE=Collège du Pontet:geo:6.568879,46.5323405
END:VEVENT
BEGIN:VEVENT
DTSTART;TZID=Europe/Zurich:20280810T133000
DTEND;TZID=Europe/Zurich:20280810T153000
DTSTAMP:20260421T034400
CREATED:20260412T064705Z
LAST-MODIFIED:20260412T064705Z
UID:10000591-1849527000-1849534200@billard-ecublens.ch
SUMMARY:après-midi 55+
DESCRIPTION:
URL:https://billard-ecublens.ch/event/apres-midi-55/2028-08-10/
LOCATION:Au local\, Collège du Pontet\, Ecublens\, Ouest lausannois\, 1024\, Switzerland
GEO:46.5323405;6.568879
X-APPLE-STRUCTURED-LOCATION;VALUE=URI;X-ADDRESS=Au local Collège du Pontet Ecublens Ouest lausannois 1024 Switzerland;X-APPLE-RADIUS=500;X-TITLE=Collège du Pontet:geo:6.568879,46.5323405
END:VEVENT
BEGIN:VEVENT
DTSTART;TZID=Europe/Zurich:20280817T133000
DTEND;TZID=Europe/Zurich:20280817T153000
DTSTAMP:20260421T034400
CREATED:20260412T064705Z
LAST-MODIFIED:20260412T064705Z
UID:10000592-1850131800-1850139000@billard-ecublens.ch
SUMMARY:après-midi 55+
DESCRIPTION:
URL:https://billard-ecublens.ch/event/apres-midi-55/2028-08-17/
LOCATION:Au local\, Collège du Pontet\, Ecublens\, Ouest lausannois\, 1024\, Switzerland
GEO:46.5323405;6.568879
X-APPLE-STRUCTURED-LOCATION;VALUE=URI;X-ADDRESS=Au local Collège du Pontet Ecublens Ouest lausannois 1024 Switzerland;X-APPLE-RADIUS=500;X-TITLE=Collège du Pontet:geo:6.568879,46.5323405
END:VEVENT
BEGIN:VEVENT
DTSTART;TZID=Europe/Zurich:20280824T133000
DTEND;TZID=Europe/Zurich:20280824T153000
DTSTAMP:20260421T034400
CREATED:20260412T064705Z
LAST-MODIFIED:20260412T064705Z
UID:10000593-1850736600-1850743800@billard-ecublens.ch
SUMMARY:après-midi 55+
DESCRIPTION:
URL:https://billard-ecublens.ch/event/apres-midi-55/2028-08-24/
LOCATION:Au local\, Collège du Pontet\, Ecublens\, Ouest lausannois\, 1024\, Switzerland
GEO:46.5323405;6.568879
X-APPLE-STRUCTURED-LOCATION;VALUE=URI;X-ADDRESS=Au local Collège du Pontet Ecublens Ouest lausannois 1024 Switzerland;X-APPLE-RADIUS=500;X-TITLE=Collège du Pontet:geo:6.568879,46.5323405
END:VEVENT
BEGIN:VEVENT
DTSTART;TZID=Europe/Zurich:20280831T133000
DTEND;TZID=Europe/Zurich:20280831T153000
DTSTAMP:20260421T034400
CREATED:20260412T064705Z
LAST-MODIFIED:20260412T064705Z
UID:10000594-1851341400-1851348600@billard-ecublens.ch
SUMMARY:après-midi 55+
DESCRIPTION:
URL:https://billard-ecublens.ch/event/apres-midi-55/2028-08-31/
LOCATION:Au local\, Collège du Pontet\, Ecublens\, Ouest lausannois\, 1024\, Switzerland
GEO:46.5323405;6.568879
X-APPLE-STRUCTURED-LOCATION;VALUE=URI;X-ADDRESS=Au local Collège du Pontet Ecublens Ouest lausannois 1024 Switzerland;X-APPLE-RADIUS=500;X-TITLE=Collège du Pontet:geo:6.568879,46.5323405
END:VEVENT
BEGIN:VEVENT
DTSTART;TZID=Europe/Zurich:20280907T133000
DTEND;TZID=Europe/Zurich:20280907T153000
DTSTAMP:20260421T034400
CREATED:20260412T064705Z
LAST-MODIFIED:20260412T064705Z
UID:10000595-1851946200-1851953400@billard-ecublens.ch
SUMMARY:après-midi 55+
DESCRIPTION:
URL:https://billard-ecublens.ch/event/apres-midi-55/2028-09-07/
LOCATION:Au local\, Collège du Pontet\, Ecublens\, Ouest lausannois\, 1024\, Switzerland
GEO:46.5323405;6.568879
X-APPLE-STRUCTURED-LOCATION;VALUE=URI;X-ADDRESS=Au local Collège du Pontet Ecublens Ouest lausannois 1024 Switzerland;X-APPLE-RADIUS=500;X-TITLE=Collège du Pontet:geo:6.568879,46.5323405
END:VEVENT
BEGIN:VEVENT
DTSTART;TZID=Europe/Zurich:20280914T133000
DTEND;TZID=Europe/Zurich:20280914T153000
DTSTAMP:20260421T034400
CREATED:20260412T064705Z
LAST-MODIFIED:20260412T064705Z
UID:10000596-1852551000-1852558200@billard-ecublens.ch
SUMMARY:après-midi 55+
DESCRIPTION:
URL:https://billard-ecublens.ch/event/apres-midi-55/2028-09-14/
LOCATION:Au local\, Collège du Pontet\, Ecublens\, Ouest lausannois\, 1024\, Switzerland
GEO:46.5323405;6.568879
X-APPLE-STRUCTURED-LOCATION;VALUE=URI;X-ADDRESS=Au local Collège du Pontet Ecublens Ouest lausannois 1024 Switzerland;X-APPLE-RADIUS=500;X-TITLE=Collège du Pontet:geo:6.568879,46.5323405
END:VEVENT
BEGIN:VEVENT
DTSTART;TZID=Europe/Zurich:20280921T133000
DTEND;TZID=Europe/Zurich:20280921T153000
DTSTAMP:20260421T034400
CREATED:20260412T064705Z
LAST-MODIFIED:20260412T064705Z
UID:10000597-1853155800-1853163000@billard-ecublens.ch
SUMMARY:après-midi 55+
DESCRIPTION:
URL:https://billard-ecublens.ch/event/apres-midi-55/2028-09-21/
LOCATION:Au local\, Collège du Pontet\, Ecublens\, Ouest lausannois\, 1024\, Switzerland
GEO:46.5323405;6.568879
X-APPLE-STRUCTURED-LOCATION;VALUE=URI;X-ADDRESS=Au local Collège du Pontet Ecublens Ouest lausannois 1024 Switzerland;X-APPLE-RADIUS=500;X-TITLE=Collège du Pontet:geo:6.568879,46.5323405
END:VEVENT
BEGIN:VEVENT
DTSTART;TZID=Europe/Zurich:20280928T133000
DTEND;TZID=Europe/Zurich:20280928T153000
DTSTAMP:20260421T034400
CREATED:20260412T064705Z
LAST-MODIFIED:20260412T064705Z
UID:10000598-1853760600-1853767800@billard-ecublens.ch
SUMMARY:après-midi 55+
DESCRIPTION:
URL:https://billard-ecublens.ch/event/apres-midi-55/2028-09-28/
LOCATION:Au local\, Collège du Pontet\, Ecublens\, Ouest lausannois\, 1024\, Switzerland
GEO:46.5323405;6.568879
X-APPLE-STRUCTURED-LOCATION;VALUE=URI;X-ADDRESS=Au local Collège du Pontet Ecublens Ouest lausannois 1024 Switzerland;X-APPLE-RADIUS=500;X-TITLE=Collège du Pontet:geo:6.568879,46.5323405
END:VEVENT
BEGIN:VEVENT
DTSTART;TZID=Europe/Zurich:20281005T133000
DTEND;TZID=Europe/Zurich:20281005T153000
DTSTAMP:20260421T034400
CREATED:20260412T064705Z
LAST-MODIFIED:20260412T064705Z
UID:10000599-1854365400-1854372600@billard-ecublens.ch
SUMMARY:après-midi 55+
DESCRIPTION:
URL:https://billard-ecublens.ch/event/apres-midi-55/2028-10-05/
LOCATION:Au local\, Collège du Pontet\, Ecublens\, Ouest lausannois\, 1024\, Switzerland
GEO:46.5323405;6.568879
X-APPLE-STRUCTURED-LOCATION;VALUE=URI;X-ADDRESS=Au local Collège du Pontet Ecublens Ouest lausannois 1024 Switzerland;X-APPLE-RADIUS=500;X-TITLE=Collège du Pontet:geo:6.568879,46.5323405
END:VEVENT
BEGIN:VEVENT
DTSTART;TZID=Europe/Zurich:20281012T133000
DTEND;TZID=Europe/Zurich:20281012T153000
DTSTAMP:20260421T034400
CREATED:20260412T064705Z
LAST-MODIFIED:20260412T064705Z
UID:10000600-1854970200-1854977400@billard-ecublens.ch
SUMMARY:après-midi 55+
DESCRIPTION:
URL:https://billard-ecublens.ch/event/apres-midi-55/2028-10-12/
LOCATION:Au local\, Collège du Pontet\, Ecublens\, Ouest lausannois\, 1024\, Switzerland
GEO:46.5323405;6.568879
X-APPLE-STRUCTURED-LOCATION;VALUE=URI;X-ADDRESS=Au local Collège du Pontet Ecublens Ouest lausannois 1024 Switzerland;X-APPLE-RADIUS=500;X-TITLE=Collège du Pontet:geo:6.568879,46.5323405
END:VEVENT
BEGIN:VEVENT
DTSTART;TZID=Europe/Zurich:20281019T133000
DTEND;TZID=Europe/Zurich:20281019T153000
DTSTAMP:20260421T034400
CREATED:20260412T064705Z
LAST-MODIFIED:20260412T064705Z
UID:10000601-1855575000-1855582200@billard-ecublens.ch
SUMMARY:après-midi 55+
DESCRIPTION:
URL:https://billard-ecublens.ch/event/apres-midi-55/2028-10-19/
LOCATION:Au local\, Collège du Pontet\, Ecublens\, Ouest lausannois\, 1024\, Switzerland
GEO:46.5323405;6.568879
X-APPLE-STRUCTURED-LOCATION;VALUE=URI;X-ADDRESS=Au local Collège du Pontet Ecublens Ouest lausannois 1024 Switzerland;X-APPLE-RADIUS=500;X-TITLE=Collège du Pontet:geo:6.568879,46.5323405
END:VEVENT
BEGIN:VEVENT
DTSTART;TZID=Europe/Zurich:20281026T133000
DTEND;TZID=Europe/Zurich:20281026T153000
DTSTAMP:20260421T034400
CREATED:20260412T064705Z
LAST-MODIFIED:20260412T064705Z
UID:10000602-1856179800-1856187000@billard-ecublens.ch
SUMMARY:après-midi 55+
DESCRIPTION:
URL:https://billard-ecublens.ch/event/apres-midi-55/2028-10-26/
LOCATION:Au local\, Collège du Pontet\, Ecublens\, Ouest lausannois\, 1024\, Switzerland
GEO:46.5323405;6.568879
X-APPLE-STRUCTURED-LOCATION;VALUE=URI;X-ADDRESS=Au local Collège du Pontet Ecublens Ouest lausannois 1024 Switzerland;X-APPLE-RADIUS=500;X-TITLE=Collège du Pontet:geo:6.568879,46.5323405
END:VEVENT
BEGIN:VEVENT
DTSTART;TZID=Europe/Zurich:20281102T133000
DTEND;TZID=Europe/Zurich:20281102T153000
DTSTAMP:20260421T034400
CREATED:20260412T064705Z
LAST-MODIFIED:20260412T064705Z
UID:10000603-1856784600-1856791800@billard-ecublens.ch
SUMMARY:après-midi 55+
DESCRIPTION:
URL:https://billard-ecublens.ch/event/apres-midi-55/2028-11-02/
LOCATION:Au local\, Collège du Pontet\, Ecublens\, Ouest lausannois\, 1024\, Switzerland
GEO:46.5323405;6.568879
X-APPLE-STRUCTURED-LOCATION;VALUE=URI;X-ADDRESS=Au local Collège du Pontet Ecublens Ouest lausannois 1024 Switzerland;X-APPLE-RADIUS=500;X-TITLE=Collège du Pontet:geo:6.568879,46.5323405
END:VEVENT
BEGIN:VEVENT
DTSTART;TZID=Europe/Zurich:20281109T133000
DTEND;TZID=Europe/Zurich:20281109T153000
DTSTAMP:20260421T034400
CREATED:20260412T064705Z
LAST-MODIFIED:20260412T064705Z
UID:10000604-1857389400-1857396600@billard-ecublens.ch
SUMMARY:après-midi 55+
DESCRIPTION:
URL:https://billard-ecublens.ch/event/apres-midi-55/2028-11-09/
LOCATION:Au local\, Collège du Pontet\, Ecublens\, Ouest lausannois\, 1024\, Switzerland
GEO:46.5323405;6.568879
X-APPLE-STRUCTURED-LOCATION;VALUE=URI;X-ADDRESS=Au local Collège du Pontet Ecublens Ouest lausannois 1024 Switzerland;X-APPLE-RADIUS=500;X-TITLE=Collège du Pontet:geo:6.568879,46.5323405
END:VEVENT
BEGIN:VEVENT
DTSTART;TZID=Europe/Zurich:20281116T133000
DTEND;TZID=Europe/Zurich:20281116T153000
DTSTAMP:20260421T034400
CREATED:20260412T064705Z
LAST-MODIFIED:20260412T064705Z
UID:10000605-1857994200-1858001400@billard-ecublens.ch
SUMMARY:après-midi 55+
DESCRIPTION:
URL:https://billard-ecublens.ch/event/apres-midi-55/2028-11-16/
LOCATION:Au local\, Collège du Pontet\, Ecublens\, Ouest lausannois\, 1024\, Switzerland
GEO:46.5323405;6.568879
X-APPLE-STRUCTURED-LOCATION;VALUE=URI;X-ADDRESS=Au local Collège du Pontet Ecublens Ouest lausannois 1024 Switzerland;X-APPLE-RADIUS=500;X-TITLE=Collège du Pontet:geo:6.568879,46.5323405
END:VEVENT
BEGIN:VEVENT
DTSTART;TZID=Europe/Zurich:20281123T133000
DTEND;TZID=Europe/Zurich:20281123T153000
DTSTAMP:20260421T034400
CREATED:20260412T064705Z
LAST-MODIFIED:20260412T064705Z
UID:10000606-1858599000-1858606200@billard-ecublens.ch
SUMMARY:après-midi 55+
DESCRIPTION:
URL:https://billard-ecublens.ch/event/apres-midi-55/2028-11-23/
LOCATION:Au local\, Collège du Pontet\, Ecublens\, Ouest lausannois\, 1024\, Switzerland
GEO:46.5323405;6.568879
X-APPLE-STRUCTURED-LOCATION;VALUE=URI;X-ADDRESS=Au local Collège du Pontet Ecublens Ouest lausannois 1024 Switzerland;X-APPLE-RADIUS=500;X-TITLE=Collège du Pontet:geo:6.568879,46.5323405
END:VEVENT
BEGIN:VEVENT
DTSTART;TZID=Europe/Zurich:20281130T133000
DTEND;TZID=Europe/Zurich:20281130T153000
DTSTAMP:20260421T034400
CREATED:20260412T064705Z
LAST-MODIFIED:20260412T064705Z
UID:10000607-1859203800-1859211000@billard-ecublens.ch
SUMMARY:après-midi 55+
DESCRIPTION:
URL:https://billard-ecublens.ch/event/apres-midi-55/2028-11-30/
LOCATION:Au local\, Collège du Pontet\, Ecublens\, Ouest lausannois\, 1024\, Switzerland
GEO:46.5323405;6.568879
X-APPLE-STRUCTURED-LOCATION;VALUE=URI;X-ADDRESS=Au local Collège du Pontet Ecublens Ouest lausannois 1024 Switzerland;X-APPLE-RADIUS=500;X-TITLE=Collège du Pontet:geo:6.568879,46.5323405
END:VEVENT
BEGIN:VEVENT
DTSTART;TZID=Europe/Zurich:20281207T133000
DTEND;TZID=Europe/Zurich:20281207T153000
DTSTAMP:20260421T034400
CREATED:20260412T064705Z
LAST-MODIFIED:20260412T064705Z
UID:10000608-1859808600-1859815800@billard-ecublens.ch
SUMMARY:après-midi 55+
DESCRIPTION:
URL:https://billard-ecublens.ch/event/apres-midi-55/2028-12-07/
LOCATION:Au local\, Collège du Pontet\, Ecublens\, Ouest lausannois\, 1024\, Switzerland
GEO:46.5323405;6.568879
X-APPLE-STRUCTURED-LOCATION;VALUE=URI;X-ADDRESS=Au local Collège du Pontet Ecublens Ouest lausannois 1024 Switzerland;X-APPLE-RADIUS=500;X-TITLE=Collège du Pontet:geo:6.568879,46.5323405
END:VEVENT
BEGIN:VEVENT
DTSTART;TZID=Europe/Zurich:20281214T133000
DTEND;TZID=Europe/Zurich:20281214T153000
DTSTAMP:20260421T034400
CREATED:20260412T064705Z
LAST-MODIFIED:20260412T064705Z
UID:10000609-1860413400-1860420600@billard-ecublens.ch
SUMMARY:après-midi 55+
DESCRIPTION:
URL:https://billard-ecublens.ch/event/apres-midi-55/2028-12-14/
LOCATION:Au local\, Collège du Pontet\, Ecublens\, Ouest lausannois\, 1024\, Switzerland
GEO:46.5323405;6.568879
X-APPLE-STRUCTURED-LOCATION;VALUE=URI;X-ADDRESS=Au local Collège du Pontet Ecublens Ouest lausannois 1024 Switzerland;X-APPLE-RADIUS=500;X-TITLE=Collège du Pontet:geo:6.568879,46.5323405
END:VEVENT
BEGIN:VEVENT
DTSTART;TZID=Europe/Zurich:20281221T133000
DTEND;TZID=Europe/Zurich:20281221T153000
DTSTAMP:20260421T034400
CREATED:20260412T064705Z
LAST-MODIFIED:20260412T064705Z
UID:10000610-1861018200-1861025400@billard-ecublens.ch
SUMMARY:après-midi 55+
DESCRIPTION:
URL:https://billard-ecublens.ch/event/apres-midi-55/2028-12-21/
LOCATION:Au local\, Collège du Pontet\, Ecublens\, Ouest lausannois\, 1024\, Switzerland
GEO:46.5323405;6.568879
X-APPLE-STRUCTURED-LOCATION;VALUE=URI;X-ADDRESS=Au local Collège du Pontet Ecublens Ouest lausannois 1024 Switzerland;X-APPLE-RADIUS=500;X-TITLE=Collège du Pontet:geo:6.568879,46.5323405
END:VEVENT
BEGIN:VEVENT
DTSTART;TZID=Europe/Zurich:20281228T133000
DTEND;TZID=Europe/Zurich:20281228T153000
DTSTAMP:20260421T034400
CREATED:20260412T064705Z
LAST-MODIFIED:20260412T064705Z
UID:10000611-1861623000-1861630200@billard-ecublens.ch
SUMMARY:après-midi 55+
DESCRIPTION:
URL:https://billard-ecublens.ch/event/apres-midi-55/2028-12-28/
LOCATION:Au local\, Collège du Pontet\, Ecublens\, Ouest lausannois\, 1024\, Switzerland
GEO:46.5323405;6.568879
X-APPLE-STRUCTURED-LOCATION;VALUE=URI;X-ADDRESS=Au local Collège du Pontet Ecublens Ouest lausannois 1024 Switzerland;X-APPLE-RADIUS=500;X-TITLE=Collège du Pontet:geo:6.568879,46.5323405
END:VEVENT
BEGIN:VEVENT
DTSTART;TZID=Europe/Zurich:20290104T133000
DTEND;TZID=Europe/Zurich:20290104T153000
DTSTAMP:20260421T034400
CREATED:20260412T064705Z
LAST-MODIFIED:20260412T064705Z
UID:10000612-1862227800-1862235000@billard-ecublens.ch
SUMMARY:après-midi 55+
DESCRIPTION:
URL:https://billard-ecublens.ch/event/apres-midi-55/2029-01-04/
LOCATION:Au local\, Collège du Pontet\, Ecublens\, Ouest lausannois\, 1024\, Switzerland
GEO:46.5323405;6.568879
X-APPLE-STRUCTURED-LOCATION;VALUE=URI;X-ADDRESS=Au local Collège du Pontet Ecublens Ouest lausannois 1024 Switzerland;X-APPLE-RADIUS=500;X-TITLE=Collège du Pontet:geo:6.568879,46.5323405
END:VEVENT
BEGIN:VEVENT
DTSTART;TZID=Europe/Zurich:20290111T133000
DTEND;TZID=Europe/Zurich:20290111T153000
DTSTAMP:20260421T034400
CREATED:20260412T064705Z
LAST-MODIFIED:20260412T064705Z
UID:10000613-1862832600-1862839800@billard-ecublens.ch
SUMMARY:après-midi 55+
DESCRIPTION:
URL:https://billard-ecublens.ch/event/apres-midi-55/2029-01-11/
LOCATION:Au local\, Collège du Pontet\, Ecublens\, Ouest lausannois\, 1024\, Switzerland
GEO:46.5323405;6.568879
X-APPLE-STRUCTURED-LOCATION;VALUE=URI;X-ADDRESS=Au local Collège du Pontet Ecublens Ouest lausannois 1024 Switzerland;X-APPLE-RADIUS=500;X-TITLE=Collège du Pontet:geo:6.568879,46.5323405
END:VEVENT
BEGIN:VEVENT
DTSTART;TZID=Europe/Zurich:20290118T133000
DTEND;TZID=Europe/Zurich:20290118T153000
DTSTAMP:20260421T034400
CREATED:20260412T064705Z
LAST-MODIFIED:20260412T064705Z
UID:10000614-1863437400-1863444600@billard-ecublens.ch
SUMMARY:après-midi 55+
DESCRIPTION:
URL:https://billard-ecublens.ch/event/apres-midi-55/2029-01-18/
LOCATION:Au local\, Collège du Pontet\, Ecublens\, Ouest lausannois\, 1024\, Switzerland
GEO:46.5323405;6.568879
X-APPLE-STRUCTURED-LOCATION;VALUE=URI;X-ADDRESS=Au local Collège du Pontet Ecublens Ouest lausannois 1024 Switzerland;X-APPLE-RADIUS=500;X-TITLE=Collège du Pontet:geo:6.568879,46.5323405
END:VEVENT
END:VCALENDAR